BEGIN:VCALENDAR
VERSION:2.0
PRODID:-//YWCA Halifax - ECPv6.15.18//NONSGML v1.0//EN
CALSCALE:GREGORIAN
METHOD:PUBLISH
X-WR-CALNAME:YWCA Halifax
X-ORIGINAL-URL:https://www.ywcahalifax.com
X-WR-CALDESC:Events for YWCA Halifax
REFRESH-INTERVAL;VALUE=DURATION:PT1H
X-Robots-Tag:noindex
X-PUBLISHED-TTL:PT1H
BEGIN:VTIMEZONE
TZID:America/Halifax
BEGIN:DAYLIGHT
TZOFFSETFROM:-0400
TZOFFSETTO:-0300
TZNAME:ADT
DTSTART:20200308T060000
END:DAYLIGHT
BEGIN:STANDARD
TZOFFSETFROM:-0300
TZOFFSETTO:-0400
TZNAME:AST
DTSTART:20201101T050000
END:STANDARD
BEGIN:DAYLIGHT
TZOFFSETFROM:-0400
TZOFFSETTO:-0300
TZNAME:ADT
DTSTART:20210314T060000
END:DAYLIGHT
BEGIN:STANDARD
TZOFFSETFROM:-0300
TZOFFSETTO:-0400
TZNAME:AST
DTSTART:20211107T050000
END:STANDARD
BEGIN:DAYLIGHT
TZOFFSETFROM:-0400
TZOFFSETTO:-0300
TZNAME:ADT
DTSTART:20220313T060000
END:DAYLIGHT
BEGIN:STANDARD
TZOFFSETFROM:-0300
TZOFFSETTO:-0400
TZNAME:AST
DTSTART:20221106T050000
END:STANDARD
END:VTIMEZONE
BEGIN:VEVENT
DTSTART;TZID=America/Halifax:20211217T190000
DTEND;TZID=America/Halifax:20211217T210000
DTSTAMP:20260422T192941
CREATED:20211119T163356Z
LAST-MODIFIED:20211119T163356Z
UID:3726-1639767600-1639774800@www.ywcahalifax.com
SUMMARY:Homes for the Holidays
DESCRIPTION:Stay Home with Us on December 17th\, 2021!\n\nWhy Are We Staying Home For The Holidays Again This Year?\nEach year we feature an event called\, Homes for the Holidays. This event is an important part of our fundraising activities. Funds raised from Homes for the Holidays support the essential work YWCA Halifax does all year long; build economic security\, promote wellness and create opportunities for women\, girls and their families. \nGiven the ongoing realities of the pandemic\, and the need to move our event experience online\, we developed a virtual tour. \n\nWhat is Homes for the Holidays?\nEach year Homes For The Holidays – A Holiday Home Tour\, brings together local designers\, community volunteers and retailers to decorate three beautiful homes graciously loaned to us by local homeowners for this annual fundraiser. \nThe decorated homes are opened to the public with the purchase of a ticket\, giving tour participants some holiday inspiration for their own homes. Not only does this event spark the magic of the holidays it carries that spirit throughout the year as all funds raised go towards the programs and services supported by the YWCA Halifax. \n\nTICKETS\n$25.00 Tickets are available via Eventbrite \nPrior to the event a password and link will be sent to all ticket holders. \nWe encourage you to grab some bubbly and appetizers\, gather in small groups to enjoy this special production in support of YWCA Halifax. \n\n 
URL:https://www.ywcahalifax.com/event/homes-for-the-holidays-2/
LOCATION:Virtual Event\, Online\, Halifax\, Nova Scotia\, Canada
CATEGORIES:Fundraiser
END:VEVENT
END:VCALENDAR